BEGIN:VCALENDAR
VERSION:2.0
PRODID:-//92.5 the River - ECPv5.16.3.1//NONSGML v1.0//EN
CALSCALE:GREGORIAN
METHOD:PUBLISH
X-WR-CALNAME:92.5 the River
X-ORIGINAL-URL:https://theriverboston.com
X-WR-CALDESC:Events for 92.5 the River
BEGIN:VTIMEZONE
TZID:America/New_York
BEGIN:DAYLIGHT
TZOFFSETFROM:-0500
TZOFFSETTO:-0400
TZNAME:EDT
DTSTART:20160313T070000
END:DAYLIGHT
BEGIN:STANDARD
TZOFFSETFROM:-0400
TZOFFSETTO:-0500
TZNAME:EST
DTSTART:20161106T060000
END:STANDARD
END:VTIMEZONE
BEGIN:VEVENT
DTSTART;TZID=America/New_York:20161203T120000
DTEND;TZID=America/New_York:20161204T170000
DTSTAMP:20260425T132314
CREATED:20161130T162027Z
LAST-MODIFIED:20161130T163107Z
UID:26681-1480766400-1480870800@theriverboston.com
SUMMARY:Holiday Open Studios at Western Avenue!
DESCRIPTION:  \nVisit Western Avenue Studios in Lowell\, MA Saturday\, December 3rd and Sunday\, December 4th from 12 PM to 5 PM! Western Avenue houses 300+ artists in over 240 working artist studios. \nTheir Holiday Open Studio is a great time for browsing new art\, chatting with the artists\, and purchasing unique gifts for all! Check out their Facebook Page for other great Holiday gift ideas! \nIf you can’t make it to Western Avenue Studios this weekend\, they will be hosting a second Holiday Open Studio the following weekend: December 10th and December 11th!
URL:https://theriverboston.com/events/holiday-open-studios-western-avenue/
LOCATION:Western Avenue Studios\, 122 Western Avenue\, Lowell\, MA\, 01851\, United States
END:VEVENT
END:VCALENDAR