BEGIN:VCALENDAR
VERSION:2.0
PRODID:-//92.5 the River - ECPv5.16.3.1//NONSGML v1.0//EN
CALSCALE:GREGORIAN
METHOD:PUBLISH
X-WR-CALNAME:92.5 the River
X-ORIGINAL-URL:https://theriverboston.com
X-WR-CALDESC:Events for 92.5 the River
BEGIN:VTIMEZONE
TZID:America/New_York
BEGIN:DAYLIGHT
TZOFFSETFROM:-0500
TZOFFSETTO:-0400
TZNAME:EDT
DTSTART:20170312T070000
END:DAYLIGHT
BEGIN:STANDARD
TZOFFSETFROM:-0400
TZOFFSETTO:-0500
TZNAME:EST
DTSTART:20171105T060000
END:STANDARD
END:VTIMEZONE
BEGIN:VEVENT
DTSTART;TZID=America/New_York:20170308T193000
DTEND;TZID=America/New_York:20170308T193000
DTSTAMP:20260425T202313
CREATED:20170124T175654Z
LAST-MODIFIED:20170124T175654Z
UID:33091-1489001400-1489001400@theriverboston.com
SUMMARY:Intimately Yours: Neil Giraldo & Pat Benatar @ The Music Hall
DESCRIPTION:Pat Benatar: she’s always been a rule-breaker and a trailblazer\, she remains a bold and distinctive artist both on stage and on record\, and now\, after more than three decades in rock ‘n’ roll\, she’s a bonafide living legend. \nNeil “Spyder“ James Giraldo\, has been a professional musician\, producer\, arranger and songwriter for over four decades now\, changing the face of the pop charts throughout the 1980s with his collaborator\, muse and wife\, Pat Benatar. More than just an explosive steel bending guitar player\, Giraldo’s innovative vision helped him create the signature Benatar sound\, from its inception. \nTogether these rock ‘n’ roll powerhouses have been selling out concerts and wowing audiences after over three decades. Theirs is a chemistry that will\, undoubtedly\, be thrilling music-lovers forever. \nSee Neil Giraldo & Pat Benatar at The Music Hall in Portsmouth on Wednesday\, March 8th!
URL:https://theriverboston.com/events/intimately-neil-giraldo-pat-benatar-music-hall/
LOCATION:The Music Hall\, 28 Chestnut Street\, Portsmouth\, NH\, 03801\, United States
END:VEVENT
END:VCALENDAR