BEGIN:VCALENDAR
VERSION:2.0
PRODID:-//92.5 the River - ECPv5.16.3.1//NONSGML v1.0//EN
CALSCALE:GREGORIAN
METHOD:PUBLISH
X-WR-CALNAME:92.5 the River
X-ORIGINAL-URL:https://theriverboston.com
X-WR-CALDESC:Events for 92.5 the River
BEGIN:VTIMEZONE
TZID:America/New_York
BEGIN:DAYLIGHT
TZOFFSETFROM:-0500
TZOFFSETTO:-0400
TZNAME:EDT
DTSTART:20170312T070000
END:DAYLIGHT
BEGIN:STANDARD
TZOFFSETFROM:-0400
TZOFFSETTO:-0500
TZNAME:EST
DTSTART:20171105T060000
END:STANDARD
END:VTIMEZONE
BEGIN:VEVENT
DTSTART;TZID=America/New_York:20170206T190000
DTEND;TZID=America/New_York:20170206T190000
DTSTAMP:20260425T215542
CREATED:20170124T174813Z
LAST-MODIFIED:20170124T174921Z
UID:33087-1486407600-1486407600@theriverboston.com
SUMMARY:Intimately Yours: Scott Bradlee's Postmodern Jukebox
DESCRIPTION:Scott Bradlee’s Postmodern Jukebox is a genre-busting\, rotating collective of musicians and vocalists that reimagines modern pop hits in the style of jazz\, ragtime\, and swing classics of the 1920s-1950s. As arranger and producer\, Bradlee has assembled a multi-talented group of performers who rework versions of popular modern songs. The music videos of these collaborative covers have become viral sensations with millions of views on YouTube. An act that crosses all musical boundaries and generations\, Postmodern Jukebox has developed a niche all its own\, and performs a live show unlike any other – a must-see for anyone who loves jaw-dropping live performances. \nSee Scott Bradlee’s Postmodern Jukebox at The Music Hall in Portsmouth on Monday\, February 6th
URL:https://theriverboston.com/events/intimately-scott-bradlees-postmodern-jukebox/
LOCATION:The Music Hall\, 28 Chestnut Street\, Portsmouth\, NH\, 03801\, United States
END:VEVENT
END:VCALENDAR