BEGIN:VCALENDAR
VERSION:2.0
PRODID:-//92.5 the River - ECPv5.16.3.1//NONSGML v1.0//EN
CALSCALE:GREGORIAN
METHOD:PUBLISH
X-WR-CALNAME:92.5 the River
X-ORIGINAL-URL:https://theriverboston.com
X-WR-CALDESC:Events for 92.5 the River
BEGIN:VTIMEZONE
TZID:America/New_York
BEGIN:DAYLIGHT
TZOFFSETFROM:-0500
TZOFFSETTO:-0400
TZNAME:EDT
DTSTART:20250309T070000
END:DAYLIGHT
BEGIN:STANDARD
TZOFFSETFROM:-0400
TZOFFSETTO:-0500
TZNAME:EST
DTSTART:20251102T060000
END:STANDARD
END:VTIMEZONE
BEGIN:VEVENT
DTSTART;TZID=America/New_York:20250217T200000
DTEND;TZID=America/New_York:20250217T200000
DTSTAMP:20260419T141406
CREATED:20250107T193525Z
LAST-MODIFIED:20250107T193525Z
UID:225862-1739822400-1739822400@theriverboston.com
SUMMARY:Jack White @ Roadrunner
DESCRIPTION:Doors: 7pm | Show: 8pm \nTwelve time Grammy Award winner Jack White is coming to Boston! Join us for the first of two Boston shows on his No Name Tour. \nGet your tickets today!
URL:https://theriverboston.com/events/jack-white-roadrunner/
LOCATION:Roadrunner\, 89 Guest Street\, Boston\, MA\, 02135\, United States
END:VEVENT
END:VCALENDAR