BEGIN:VCALENDAR
VERSION:2.0
PRODID:-//92.5 the River - ECPv5.16.3.1//NONSGML v1.0//EN
CALSCALE:GREGORIAN
METHOD:PUBLISH
X-WR-CALNAME:92.5 the River
X-ORIGINAL-URL:https://theriverboston.com
X-WR-CALDESC:Events for 92.5 the River
BEGIN:VTIMEZONE
TZID:America/New_York
BEGIN:DAYLIGHT
TZOFFSETFROM:-0500
TZOFFSETTO:-0400
TZNAME:EDT
DTSTART:20260308T070000
END:DAYLIGHT
BEGIN:STANDARD
TZOFFSETFROM:-0400
TZOFFSETTO:-0500
TZNAME:EST
DTSTART:20261101T060000
END:STANDARD
END:VTIMEZONE
BEGIN:VEVENT
DTSTART;TZID=America/New_York:20260906T193000
DTEND;TZID=America/New_York:20260906T193000
DTSTAMP:20260424T082239
CREATED:20260114T185533Z
LAST-MODIFIED:20260114T185533Z
UID:229928-1788723000-1788723000@theriverboston.com
SUMMARY:James Taylor at MGM Music Hall Fenway
DESCRIPTION:View Tickets \nJames Taylor is the archetypal singer/songwriter\, who helped create the template for the troubadour style that dominated the 1970s. And when he brings his blend of folk\, pop\, rock\, and soul influences to the stage\, it’s like a part of history is unfolding before the crowd\, with enough tuneful energy to generate some major good-time vibes. The five-time Grammy-winning\, multi-platinum songsmith offered up tracks like “Fire and Rain” and “You’ve Got a Friend” to the collective pop-cultural consciousness in the ’70s\, and they’ve stayed there ever since.
URL:https://theriverboston.com/events/james-taylor-mgm-music-hall-9-6-26/
LOCATION:MGM Music Hall at Fenway\, 2 Lansdowne Street\, Boston\, MA\, 02215\, United States
END:VEVENT
END:VCALENDAR