BEGIN:VCALENDAR
VERSION:2.0
PRODID:-//92.5 the River - ECPv5.16.3.1//NONSGML v1.0//EN
CALSCALE:GREGORIAN
METHOD:PUBLISH
X-WR-CALNAME:92.5 the River
X-ORIGINAL-URL:https://theriverboston.com
X-WR-CALDESC:Events for 92.5 the River
BEGIN:VTIMEZONE
TZID:America/New_York
BEGIN:DAYLIGHT
TZOFFSETFROM:-0500
TZOFFSETTO:-0400
TZNAME:EDT
DTSTART:20150308T070000
END:DAYLIGHT
BEGIN:STANDARD
TZOFFSETFROM:-0400
TZOFFSETTO:-0500
TZNAME:EST
DTSTART:20151101T060000
END:STANDARD
END:VTIMEZONE
BEGIN:VEVENT
DTSTART;TZID=America/New_York:20150510T190000
DTEND;TZID=America/New_York:20150510T220000
DTSTAMP:20260424T001646
CREATED:20150508T143818Z
LAST-MODIFIED:20150508T143905Z
UID:7014-1431284400-1431295200@theriverboston.com
SUMMARY:Jason Spooner and Seth Glier at Tupelo!
DESCRIPTION:
URL:https://theriverboston.com/events/jason-spooner-and-seth-glier-at-tupelo/
LOCATION:Tupelo Music Hall\, 10 A Street\, Derry\, NH\, 03038\, United States
END:VEVENT
END:VCALENDAR