BEGIN:VCALENDAR
VERSION:2.0
PRODID:-//92.5 the River - ECPv5.16.3.1//NONSGML v1.0//EN
CALSCALE:GREGORIAN
METHOD:PUBLISH
X-WR-CALNAME:92.5 the River
X-ORIGINAL-URL:https://theriverboston.com
X-WR-CALDESC:Events for 92.5 the River
BEGIN:VTIMEZONE
TZID:America/New_York
BEGIN:DAYLIGHT
TZOFFSETFROM:-0500
TZOFFSETTO:-0400
TZNAME:EDT
DTSTART:20150308T070000
END:DAYLIGHT
BEGIN:STANDARD
TZOFFSETFROM:-0400
TZOFFSETTO:-0500
TZNAME:EST
DTSTART:20151101T060000
END:STANDARD
END:VTIMEZONE
BEGIN:VEVENT
DTSTART;TZID=America/New_York:20150516T200000
DTEND;TZID=America/New_York:20150516T220000
DTSTAMP:20260423T185753
CREATED:20150506T175908Z
LAST-MODIFIED:20150506T181150Z
UID:6995-1431806400-1431813600@theriverboston.com
SUMMARY:Jazz Great Diane Schuur at THE CABOT in Beverly
DESCRIPTION:See the award winning Diane Schuur at THE CABOT\nin downtown Beverly!\nSaturday\, May 16th | 8 PM \nBUY TICKETS \nAbout the artist: Long regarded as one of Contemporary Jazz’s leading vocalists and pianists\, Diane Schuur comes to the acoustically-amazing Cabot Theater for a rare Massachusetts performance. A giant in the world of jazz\, Diane is an artist as eclectic as she is brilliant. Born in Tacoma\, Washington in 1953\, Schuur was blind from birth; but she was gifted with perfect pitch and initially taught herself piano by ear. READ MORE! \nTHE CABOT is a non-profit performance center. Proceeds after expense are devoted to preserving and upgrading this historic and majestic showplace.
URL:https://theriverboston.com/events/jazz-great-diane-schuur-at-the-cabot-in-beverly/
LOCATION:THE CABOT\, 286 Cabot Street\, Beverly\, MA\, 01915\, United States
END:VEVENT
END:VCALENDAR