BEGIN:VCALENDAR
VERSION:2.0
PRODID:-//92.5 the River - ECPv5.16.3.1//NONSGML v1.0//EN
CALSCALE:GREGORIAN
METHOD:PUBLISH
X-WR-CALNAME:92.5 the River
X-ORIGINAL-URL:https://theriverboston.com
X-WR-CALDESC:Events for 92.5 the River
BEGIN:VTIMEZONE
TZID:America/New_York
BEGIN:DAYLIGHT
TZOFFSETFROM:-0500
TZOFFSETTO:-0400
TZNAME:EDT
DTSTART:20180311T070000
END:DAYLIGHT
BEGIN:STANDARD
TZOFFSETFROM:-0400
TZOFFSETTO:-0500
TZNAME:EST
DTSTART:20181104T060000
END:STANDARD
END:VTIMEZONE
BEGIN:VEVENT
DTSTART;TZID=America/New_York:20180925T193000
DTEND;TZID=America/New_York:20180925T193000
DTSTAMP:20260422T115430
CREATED:20180516T160539Z
LAST-MODIFIED:20180522T210129Z
UID:85033-1537903800-1537903800@theriverboston.com
SUMMARY:JEKYLL & HYDE @ Bill Hanney’s North Shore Music Theatre
DESCRIPTION:Just in time for the Halloween season\, this adaptation of Robert Louis Stevenson’s classic novel is sure to thrill! JEKYLL & HYDE tells the story of London scientist Dr. Henry Jekyll\, who creates a potion that turns him into a murderous alter ego dubbed Edward Hyde. As Hyde’s violent rampage continues\, Jekyll must figure out a way to stop the transformations before it results in deadly consequences. READ MORE. \nExperience the excitement of  JEKYLL & HYDE and Frank Wildhorn’s soaring score from September 25th through October 7th! View all ticket and showtime information. You can also follow the venue on Instagram and Twitter!
URL:https://theriverboston.com/events/jekyll-hyde-bill-hanneys-north-shore-music-theatre/
LOCATION:North Shore Music Theatre\, 62 Dunham Road\, Beverly\, MA\, 01915\, United States
END:VEVENT
END:VCALENDAR