BEGIN:VCALENDAR
VERSION:2.0
PRODID:-//92.5 the River - ECPv5.16.3.1//NONSGML v1.0//EN
CALSCALE:GREGORIAN
METHOD:PUBLISH
X-WR-CALNAME:92.5 the River
X-ORIGINAL-URL:https://theriverboston.com
X-WR-CALDESC:Events for 92.5 the River
BEGIN:VTIMEZONE
TZID:America/New_York
BEGIN:DAYLIGHT
TZOFFSETFROM:-0500
TZOFFSETTO:-0400
TZNAME:EDT
DTSTART:20190310T070000
END:DAYLIGHT
BEGIN:STANDARD
TZOFFSETFROM:-0400
TZOFFSETTO:-0500
TZNAME:EST
DTSTART:20191103T060000
END:STANDARD
END:VTIMEZONE
BEGIN:VEVENT
DTSTART;TZID=America/New_York:20191025T190000
DTEND;TZID=America/New_York:20191025T190000
DTSTAMP:20260420T170030
CREATED:20191015T204808Z
LAST-MODIFIED:20191015T204808Z
UID:210826-1572030000-1572030000@theriverboston.com
SUMMARY:Jenny Lewis at House Of Blues!
DESCRIPTION:Jenny Lewis is coming to the House Of Blues!\nLead singer of Rilo Kiley\, Jenny Lewis\, is stopping in Boston! Tickets are on sale now\, but you can enter to win tickets before you buy! Contest ends 10/20.
URL:https://theriverboston.com/events/jenny-lewis-at-house-of-blues/
LOCATION:House of Blues Boston\, 15 Landsdowne Street\, Boston\, MA\, 02215\, United States
END:VEVENT
END:VCALENDAR