BEGIN:VCALENDAR
VERSION:2.0
PRODID:-//92.5 the River - ECPv5.16.3.1//NONSGML v1.0//EN
CALSCALE:GREGORIAN
METHOD:PUBLISH
X-WR-CALNAME:92.5 the River
X-ORIGINAL-URL:https://theriverboston.com
X-WR-CALDESC:Events for 92.5 the River
BEGIN:VTIMEZONE
TZID:America/New_York
BEGIN:DAYLIGHT
TZOFFSETFROM:-0500
TZOFFSETTO:-0400
TZNAME:EDT
DTSTART:20190310T070000
END:DAYLIGHT
BEGIN:STANDARD
TZOFFSETFROM:-0400
TZOFFSETTO:-0500
TZNAME:EST
DTSTART:20191103T060000
END:STANDARD
END:VTIMEZONE
BEGIN:VEVENT
DTSTART;TZID=America/New_York:20190327T193000
DTEND;TZID=America/New_York:20190327T193000
DTSTAMP:20260419T101510
CREATED:20190314T204324Z
LAST-MODIFIED:20190314T204324Z
UID:207426-1553715000-1553715000@theriverboston.com
SUMMARY:Jim Messina Band and POCO at the Palace Theatre!
DESCRIPTION:POCO and the Jim Messina Band are coming to play the Palace Theatre!\nCome see these two iconic bands rock out in New Hampshire this March. \nYou can purchase tickets and find more information at the Palace Theatre website.
URL:https://theriverboston.com/events/jim-messina-band-and-poco-at-the-palace-theatre/
LOCATION:The Palace Theatre\, 80 Hanover St\, Manchester\, NH\, 03101\, United States
END:VEVENT
END:VCALENDAR