BEGIN:VCALENDAR
VERSION:2.0
PRODID:-//92.5 the River - ECPv5.16.3.1//NONSGML v1.0//EN
CALSCALE:GREGORIAN
METHOD:PUBLISH
X-WR-CALNAME:92.5 the River
X-ORIGINAL-URL:https://theriverboston.com
X-WR-CALDESC:Events for 92.5 the River
BEGIN:VTIMEZONE
TZID:America/New_York
BEGIN:DAYLIGHT
TZOFFSETFROM:-0500
TZOFFSETTO:-0400
TZNAME:EDT
DTSTART:20200308T070000
END:DAYLIGHT
BEGIN:STANDARD
TZOFFSETFROM:-0400
TZOFFSETTO:-0500
TZNAME:EST
DTSTART:20201101T060000
END:STANDARD
END:VTIMEZONE
BEGIN:VEVENT
DTSTART;TZID=America/New_York:20200207T200000
DTEND;TZID=America/New_York:20200207T200000
DTSTAMP:20260423T060838
CREATED:20191212T204602Z
LAST-MODIFIED:20191212T204602Z
UID:211344-1581105600-1581105600@theriverboston.com
SUMMARY:John Gorka at The Music Hall
DESCRIPTION:John Gorka is coming to The Music Hall!\nSee John Gorka at The Music Hall as part of the Live At The Loft Series! \nHeralded as “the preeminent male singer/songwriter of the new folk movement” by Rolling Stone\, John Gorka’s rich multi-faceted songs\, full of depth\, beauty\, and emotion\, have gained him increasing attention from critics and audiences across the country and Europe. Now with his 11th studio album\, John returns to his roots with So Dark You See\, his most compelling and traditional album to date.
URL:https://theriverboston.com/events/john-gorka-at-the-music-hall/
LOCATION:The Music Hall\, 28 Chestnut Street\, Portsmouth\, NH\, 03801\, United States
END:VEVENT
END:VCALENDAR