BEGIN:VCALENDAR
VERSION:2.0
PRODID:-//92.5 the River - ECPv5.16.3.1//NONSGML v1.0//EN
CALSCALE:GREGORIAN
METHOD:PUBLISH
X-WR-CALNAME:92.5 the River
X-ORIGINAL-URL:https://theriverboston.com
X-WR-CALDESC:Events for 92.5 the River
BEGIN:VTIMEZONE
TZID:America/New_York
BEGIN:DAYLIGHT
TZOFFSETFROM:-0500
TZOFFSETTO:-0400
TZNAME:EDT
DTSTART:20190310T070000
END:DAYLIGHT
BEGIN:STANDARD
TZOFFSETFROM:-0400
TZOFFSETTO:-0500
TZNAME:EST
DTSTART:20191103T060000
END:STANDARD
END:VTIMEZONE
BEGIN:VEVENT
DTSTART;TZID=America/New_York:20191106T200000
DTEND;TZID=America/New_York:20191106T200000
DTSTAMP:20260421T201531
CREATED:20191016T174845Z
LAST-MODIFIED:20191016T174845Z
UID:210836-1573070400-1573070400@theriverboston.com
SUMMARY:John Hiatt at Rochester Opera House!
DESCRIPTION:See John Hiatt at the Rochester Opera House!\nJohn Hiatt is coming to town and now’s your chance to see him! The singer/songwriter is coming to the Rochester Opera House Wednesday\, November 6th. Before you buy tickets\, be sure to enter to win a pair from us! Contest open now through 10/21.
URL:https://theriverboston.com/events/john-hiatt-at-rochester-opera-house/
LOCATION:Rochester Opera House\, 31 Wakefield St\, Rochester\, NH\, 03867\, United States
END:VEVENT
END:VCALENDAR