BEGIN:VCALENDAR
VERSION:2.0
PRODID:-//92.5 the River - ECPv5.16.3.1//NONSGML v1.0//EN
CALSCALE:GREGORIAN
METHOD:PUBLISH
X-WR-CALNAME:92.5 the River
X-ORIGINAL-URL:https://theriverboston.com
X-WR-CALDESC:Events for 92.5 the River
BEGIN:VTIMEZONE
TZID:America/New_York
BEGIN:DAYLIGHT
TZOFFSETFROM:-0500
TZOFFSETTO:-0400
TZNAME:EDT
DTSTART:20180311T070000
END:DAYLIGHT
BEGIN:STANDARD
TZOFFSETFROM:-0400
TZOFFSETTO:-0500
TZNAME:EST
DTSTART:20181104T060000
END:STANDARD
END:VTIMEZONE
BEGIN:VEVENT
DTSTART;TZID=America/New_York:20180804T150000
DTEND;TZID=America/New_York:20180804T190000
DTSTAMP:20260420T153015
CREATED:20180716T163013Z
LAST-MODIFIED:20180724T181146Z
UID:98326-1533394800-1533409200@theriverboston.com
SUMMARY:Johnny Appleseed Craft Beer Festival
DESCRIPTION:Join us at the Johnny Appleseed Craft Beer Festival Saturday August 4th in downtown Leominster!\nThe festival will be all outdoors\, with live music\, and over 40 brewers\, and food vendors in the common. \nAll admissions come with a 4oz souvenir tasting glass \nAttendees must be 21+ \nAdmission: $30
URL:https://theriverboston.com/events/johnny-appleseed-craft-beer-festival-3/
LOCATION:1 West Street\, Leominster\, MA 01453\, 1 West Street\, Leominster\, MA\, 01453\, United States
END:VEVENT
END:VCALENDAR