BEGIN:VCALENDAR
VERSION:2.0
PRODID:-//92.5 the River - ECPv5.16.3.1//NONSGML v1.0//EN
CALSCALE:GREGORIAN
METHOD:PUBLISH
X-WR-CALNAME:92.5 the River
X-ORIGINAL-URL:https://theriverboston.com
X-WR-CALDESC:Events for 92.5 the River
BEGIN:VTIMEZONE
TZID:America/New_York
BEGIN:DAYLIGHT
TZOFFSETFROM:-0500
TZOFFSETTO:-0400
TZNAME:EDT
DTSTART:20200308T070000
END:DAYLIGHT
BEGIN:STANDARD
TZOFFSETFROM:-0400
TZOFFSETTO:-0500
TZNAME:EST
DTSTART:20201101T060000
END:STANDARD
END:VTIMEZONE
BEGIN:VEVENT
DTSTART;TZID=America/New_York:20200307T150000
DTEND;TZID=America/New_York:20200307T170000
DTSTAMP:20260422T020826
CREATED:20200131T160456Z
LAST-MODIFIED:20200131T163701Z
UID:211685-1583593200-1583600400@theriverboston.com
SUMMARY:Join The River Roadies at the Waterville Valley Resort for Apres-Ski Party
DESCRIPTION:Come hang out with The River Roadies at the Waterville Valley Resort for a apres-ski party on March 7th! The team will be providing music and giving away some awesome prizes. Make sure to stop by Mama Rosie’s table where they will be giving out cool merchandise. Save the date because it’s going to be fun!
URL:https://theriverboston.com/events/join-the-river-roadies-at-the-waterville-valley-resort-for-apres-ski-party/
LOCATION:Waterville Valley Mountain Resort\, 1 Ski Area Rd\, Waterville Valley\, NH\, 03215\, United States
END:VEVENT
END:VCALENDAR