BEGIN:VCALENDAR
VERSION:2.0
PRODID:-//92.5 the River - ECPv5.16.3.1//NONSGML v1.0//EN
CALSCALE:GREGORIAN
METHOD:PUBLISH
X-WR-CALNAME:92.5 the River
X-ORIGINAL-URL:https://theriverboston.com
X-WR-CALDESC:Events for 92.5 the River
BEGIN:VTIMEZONE
TZID:America/New_York
BEGIN:DAYLIGHT
TZOFFSETFROM:-0500
TZOFFSETTO:-0400
TZNAME:EDT
DTSTART:20150308T070000
END:DAYLIGHT
BEGIN:STANDARD
TZOFFSETFROM:-0400
TZOFFSETTO:-0500
TZNAME:EST
DTSTART:20151101T060000
END:STANDARD
END:VTIMEZONE
BEGIN:VEVENT
DTSTART;TZID=America/New_York:20150823T120000
DTEND;TZID=America/New_York:20150823T140000
DTSTAMP:20260419T170200
CREATED:20150804T172500Z
LAST-MODIFIED:20150804T172500Z
UID:8119-1440331200-1440338400@theriverboston.com
SUMMARY:Join The River Team at Sears Hometown Store in Gloucester
DESCRIPTION:Come hang with The River Team at Sears Hometown Store in Gloucester!\n\nDetails \nWhere: Sears Hometown Store\, Gloucester MA \nWhen: Sunday\, August 23 \n12-2pm
URL:https://theriverboston.com/events/join-the-river-team-at-sears-hometown-store-in-gloucester/
LOCATION:Sears Hometown Store\, 146 Eastern Ave\, Gloucester\, MA\, 01930\, United States
END:VEVENT
END:VCALENDAR