BEGIN:VCALENDAR
VERSION:2.0
PRODID:-//92.5 the River - ECPv5.16.3.1//NONSGML v1.0//EN
CALSCALE:GREGORIAN
METHOD:PUBLISH
X-WR-CALNAME:92.5 the River
X-ORIGINAL-URL:https://theriverboston.com
X-WR-CALDESC:Events for 92.5 the River
BEGIN:VTIMEZONE
TZID:America/New_York
BEGIN:DAYLIGHT
TZOFFSETFROM:-0500
TZOFFSETTO:-0400
TZNAME:EDT
DTSTART:20210314T070000
END:DAYLIGHT
BEGIN:STANDARD
TZOFFSETFROM:-0400
TZOFFSETTO:-0500
TZNAME:EST
DTSTART:20211107T060000
END:STANDARD
END:VTIMEZONE
BEGIN:VEVENT
DTSTART;TZID=America/New_York:20211105T083000
DTEND;TZID=America/New_York:20211105T150000
DTSTAMP:20260421T071802
CREATED:20211021T134346Z
LAST-MODIFIED:20211021T134346Z
UID:214956-1636101000-1636124400@theriverboston.com
SUMMARY:Join Us 11/5 For “Precast Days” 2021 – Wilmington\, MA
DESCRIPTION:Join Shea Concrete Products for the 2021 Precast Days\nThe National Precast Concrete Association (NPCA) and Shea Concrete Products are presenting “Precast Days” 2021 in New England as a unique educational opportunity to provide students\, specifiers\, engineers and contractors (or anyone else interested in the Precast Concrete Industry) with an up-close & personal experience at a New England-based precast concrete plant. Their NPCA Certified precast concrete plants are opening their doors to explain the precast manufacturing process and demonstrate the equipment\, technology and engineering expertise that goes into making resilient precast concrete products day in and day out.\n• They will be hosting plant tours from 8:30am-3:00pm & offering a 1-PDH Credit\n• “Augusta’s Cluck” & “The Cookie Monstah” food trucks will be onsite from 10:00am-2:00pm \nFor more information on Shea Concrete visit their site here \nTo register for the event please RSVP to Emily Finochiaro by email EmilyF@sheaconcrete.com (preferred) or by phone 800-696-7432.
URL:https://theriverboston.com/events/join-us-11-5-for-precast-days-2021-wilmington-ma/
LOCATION:shea concrete\, 773 Salem Street\, Wilmington\, MA\, 01887\, United States
END:VEVENT
END:VCALENDAR