BEGIN:VCALENDAR
VERSION:2.0
PRODID:-//92.5 the River - ECPv5.16.3.1//NONSGML v1.0//EN
CALSCALE:GREGORIAN
METHOD:PUBLISH
X-WR-CALNAME:92.5 the River
X-ORIGINAL-URL:https://theriverboston.com
X-WR-CALDESC:Events for 92.5 the River
BEGIN:VTIMEZONE
TZID:America/New_York
BEGIN:DAYLIGHT
TZOFFSETFROM:-0500
TZOFFSETTO:-0400
TZNAME:EDT
DTSTART:20170312T070000
END:DAYLIGHT
BEGIN:STANDARD
TZOFFSETFROM:-0400
TZOFFSETTO:-0500
TZNAME:EST
DTSTART:20171105T060000
END:STANDARD
END:VTIMEZONE
BEGIN:VEVENT
DTSTART;TZID=America/New_York:20170331T170000
DTEND;TZID=America/New_York:20170331T200000
DTSTAMP:20260425T183604
CREATED:20170314T183918Z
LAST-MODIFIED:20190103T215650Z
UID:37672-1490979600-1490990400@theriverboston.com
SUMMARY:Jokes on Brew Craft Beer Extravaganza - Friday Reception
DESCRIPTION:Visit Woodstock Inn Brewery for Jokes on Brew Craft Beer Extravaganza! “Jokes on Brew” is their first ever multi-brewery guest tap takeover featuring 9 different craft breweries – and of course\, the Woodstock Inn Brewery! On Friday\, March 31st from 5:00 – 8:00 PM in the Tap Room\, you can enjoy complimentary appetizers\, free beer samples from guest breweries\, and chat or joke it up with guest brewery reps! \nPurchase your tickets here.
URL:https://theriverboston.com/events/jokes-brew-craft-beer-extravaganza/
LOCATION:Woodstock Inn\, Station & Brewery\, 135 Main St\, North Woodstock\, NH\, 03262\, United States
END:VEVENT
END:VCALENDAR