BEGIN:VCALENDAR
VERSION:2.0
PRODID:-//92.5 the River - ECPv5.16.3.1//NONSGML v1.0//EN
CALSCALE:GREGORIAN
METHOD:PUBLISH
X-WR-CALNAME:92.5 the River
X-ORIGINAL-URL:https://theriverboston.com
X-WR-CALDESC:Events for 92.5 the River
BEGIN:VTIMEZONE
TZID:America/New_York
BEGIN:DAYLIGHT
TZOFFSETFROM:-0500
TZOFFSETTO:-0400
TZNAME:EDT
DTSTART:20250309T070000
END:DAYLIGHT
BEGIN:STANDARD
TZOFFSETFROM:-0400
TZOFFSETTO:-0500
TZNAME:EST
DTSTART:20251102T060000
END:STANDARD
END:VTIMEZONE
BEGIN:VEVENT
DTSTART;TZID=America/New_York:20250628T190000
DTEND;TZID=America/New_York:20250628T190000
DTSTAMP:20260419T084244
CREATED:20250619T165433Z
LAST-MODIFIED:20250619T165433Z
UID:227831-1751137200-1751137200@theriverboston.com
SUMMARY:Jon Batiste @ Tanglewood
DESCRIPTION:Jon Batiste | Saturday\, June 28th \nShow: 7 pm \nJoin Jon Batiste at Tanglewood as the celebrated pianist\, composer\, and singer embarks on his first North American tour!  The 5-time Grammy winner who is also an Emmy and Academy Award-winner\, continues to bring a refreshing world perspective into his writing and performances.  With albums like We Are and World Music Radio to his name\, Batiste\, “actively promotes the normalization of musical ambidexterity.”  Be sure to grab your tickets as Jon Batiste is sure to put on a memorable show! \nGet tickets here!
URL:https://theriverboston.com/events/jon-batiste-tanglewood-2025/
LOCATION:Tanglewood\, 297 West St\, Lenox\, Lenox\, MA\, 01240\, United States
END:VEVENT
END:VCALENDAR