BEGIN:VCALENDAR
VERSION:2.0
PRODID:-//92.5 the River - ECPv5.16.3.1//NONSGML v1.0//EN
CALSCALE:GREGORIAN
METHOD:PUBLISH
X-WR-CALNAME:92.5 the River
X-ORIGINAL-URL:https://theriverboston.com
X-WR-CALDESC:Events for 92.5 the River
BEGIN:VTIMEZONE
TZID:America/New_York
BEGIN:DAYLIGHT
TZOFFSETFROM:-0500
TZOFFSETTO:-0400
TZNAME:EDT
DTSTART:20170312T070000
END:DAYLIGHT
BEGIN:STANDARD
TZOFFSETFROM:-0400
TZOFFSETTO:-0500
TZNAME:EST
DTSTART:20171105T060000
END:STANDARD
END:VTIMEZONE
BEGIN:VEVENT
DTSTART;TZID=America/New_York:20170603T200000
DTEND;TZID=America/New_York:20170603T230000
DTSTAMP:20260425T132255
CREATED:20170420T183507Z
LAST-MODIFIED:20170420T193015Z
UID:42346-1496520000-1496530800@theriverboston.com
SUMMARY:Jon Butcher at 9 Wallis in Beverly
DESCRIPTION:Don’t miss Jon Butcher’s\nSpecial CD Release Event\n\nOne night only at Beverly’s newest venue: 9 Wallis\nView/Buy Tickets \nAbout The Event:2 ROADS EAST is Jon Butcher’s first new CD since the JON BUTCHER AXIS’ 2014 CD\, EXPERIENCED! Critically acclaimed 2 ROADS EAST is JON BUTCHER’s most electrifying and adventurous release yet.\nRead More
URL:https://theriverboston.com/events/jon-butcher-9-wallis-beverly/
LOCATION:9 Wallis\, 9 Wallis Street\, Beverly\, MA\, 01915\, United States
END:VEVENT
END:VCALENDAR