BEGIN:VCALENDAR
VERSION:2.0
PRODID:-//92.5 the River - ECPv5.16.3.1//NONSGML v1.0//EN
CALSCALE:GREGORIAN
METHOD:PUBLISH
X-WR-CALNAME:92.5 the River
X-ORIGINAL-URL:https://theriverboston.com
X-WR-CALDESC:Events for 92.5 the River
BEGIN:VTIMEZONE
TZID:America/New_York
BEGIN:DAYLIGHT
TZOFFSETFROM:-0500
TZOFFSETTO:-0400
TZNAME:EDT
DTSTART:20170312T070000
END:DAYLIGHT
BEGIN:STANDARD
TZOFFSETFROM:-0400
TZOFFSETTO:-0500
TZNAME:EST
DTSTART:20171105T060000
END:STANDARD
END:VTIMEZONE
BEGIN:VEVENT
DTSTART;TZID=America/New_York:20170223T193000
DTEND;TZID=America/New_York:20170223T213000
DTSTAMP:20260425T231948
CREATED:20170216T201416Z
LAST-MODIFIED:20170216T201416Z
UID:35846-1487878200-1487885400@theriverboston.com
SUMMARY:Jonah And The Whale Opening Night
DESCRIPTION:Join us on an epic musical journey that re-imagines one of the strangest and most familiar stories in the Old Testament. Jonah And The Whale is an unforgettable story of faith\, loss\, and survival against unbeatable odds.. This new musical\, with its exciting ensemble cast\, features a completely original pop/folk score. \n  \n 
URL:https://theriverboston.com/events/jonah-whale-opening-night/
LOCATION:Stoneham Theatre\, 395 Main Street\, Stoneham\, MA\, 02180\, United States
END:VEVENT
END:VCALENDAR