BEGIN:VCALENDAR
VERSION:2.0
PRODID:-//92.5 the River - ECPv5.16.3.1//NONSGML v1.0//EN
CALSCALE:GREGORIAN
METHOD:PUBLISH
X-WR-CALNAME:92.5 the River
X-ORIGINAL-URL:https://theriverboston.com
X-WR-CALDESC:Events for 92.5 the River
BEGIN:VTIMEZONE
TZID:America/New_York
BEGIN:DAYLIGHT
TZOFFSETFROM:-0500
TZOFFSETTO:-0400
TZNAME:EDT
DTSTART:20260308T070000
END:DAYLIGHT
BEGIN:STANDARD
TZOFFSETFROM:-0400
TZOFFSETTO:-0500
TZNAME:EST
DTSTART:20261101T060000
END:STANDARD
END:VTIMEZONE
BEGIN:VEVENT
DTSTART;TZID=America/New_York:20260225T193000
DTEND;TZID=America/New_York:20260225T193000
DTSTAMP:20260424T202209
CREATED:20260203T043053Z
LAST-MODIFIED:20260203T043053Z
UID:230064-1772047800-1772047800@theriverboston.com
SUMMARY:Jonatha Brooke in Cambridge
DESCRIPTION:View Tickets \nPassim Presents Jonatha Brooke\nJonatha Brooke is what happens when literate songwriting meets fearless innovation\, a singular voice in modern music whose work is as much chamber poetry as it is folk-pop. Trained in the rigor of classical composition yet born with a Broadway-bound belt and a novelist’s eye for character\, she weaves deeply personal narratives with a rare melodic sophistication. From her early days with The Story to her solo triumphs\, Brooke has quietly carved a niche where the emotional intelligence of Joni Mitchell meets the musical wit of Stephen Sondheim\, all wrapped in a voice that aches\, sparkles\, and soars\, often within the same phrase.
URL:https://theriverboston.com/events/jonatha-brooke-in-cambridge/
LOCATION:Arrow Street Arts\, 2 Arrow Street\, Cambridge\, MA\, 02138\, United States
END:VEVENT
END:VCALENDAR