BEGIN:VCALENDAR
VERSION:2.0
PRODID:-//92.5 the River - ECPv5.16.3.1//NONSGML v1.0//EN
CALSCALE:GREGORIAN
METHOD:PUBLISH
X-WR-CALNAME:92.5 the River
X-ORIGINAL-URL:https://theriverboston.com
X-WR-CALDESC:Events for 92.5 the River
BEGIN:VTIMEZONE
TZID:America/New_York
BEGIN:DAYLIGHT
TZOFFSETFROM:-0500
TZOFFSETTO:-0400
TZNAME:EDT
DTSTART:20220313T070000
END:DAYLIGHT
BEGIN:STANDARD
TZOFFSETFROM:-0400
TZOFFSETTO:-0500
TZNAME:EST
DTSTART:20221106T060000
END:STANDARD
END:VTIMEZONE
BEGIN:VEVENT
DTSTART;TZID=America/New_York:20220127T200000
DTEND;TZID=America/New_York:20220127T200000
DTSTAMP:20260420T015644
CREATED:20220106T190725Z
LAST-MODIFIED:20220106T190725Z
UID:215459-1643313600-1643313600@theriverboston.com
SUMMARY:Kacey Musgraves @ TD Garden
DESCRIPTION:Come See Kacey Musgraves @ TD Garden!\n\nEnter Now To Win Tickets From Us!*\nKacey Musgraves announces special North American headlining tour titled\, “star-crossed: unveiled”  in support of her new record and film star-crossed. This is a limited 15-city tour so you don’t want to miss out on your chance to see Kacey Musgraves in Boston on January 27th! \nDoors: 7:00PM \nShow: 8:00PM \nCOVID-19 POLICY: Starting January 15\, 2022\, all guests 12 years and older will be required to present proof of vaccination against COVID-19 to gain access to TD Garden for all events\, per the City of Boston Vaccination Mandate. Proof of a negative COVID-19 test will no longer be accepted. The City of Boston’s Mask Mandate will remain in effect until further notice.\n*Contest ends on Sunday\, January 9th\, at 11:59PM
URL:https://theriverboston.com/events/kacey-musgraves-td-garden/
LOCATION:TD Garden\, 100 Legends Way\, Boston\, MA\, 02114\, United States
END:VEVENT
END:VCALENDAR