BEGIN:VCALENDAR
VERSION:2.0
PRODID:-//92.5 the River - ECPv5.16.3.1//NONSGML v1.0//EN
CALSCALE:GREGORIAN
METHOD:PUBLISH
X-WR-CALNAME:92.5 the River
X-ORIGINAL-URL:https://theriverboston.com
X-WR-CALDESC:Events for 92.5 the River
BEGIN:VTIMEZONE
TZID:America/New_York
BEGIN:DAYLIGHT
TZOFFSETFROM:-0500
TZOFFSETTO:-0400
TZNAME:EDT
DTSTART:20220313T070000
END:DAYLIGHT
BEGIN:STANDARD
TZOFFSETFROM:-0400
TZOFFSETTO:-0500
TZNAME:EST
DTSTART:20221106T060000
END:STANDARD
END:VTIMEZONE
BEGIN:VEVENT
DTSTART;TZID=America/New_York:20220317T190000
DTEND;TZID=America/New_York:20220317T190000
DTSTAMP:20260421T104919
CREATED:20211109T170103Z
LAST-MODIFIED:20211109T170103Z
UID:215118-1647543600-1647543600@theriverboston.com
SUMMARY:Khruangbin @ Roadrunner!
DESCRIPTION:Khruangbin\nw/Nubya Garcia\nRoadrunner\nMarch 17th & 18th | 7pm\nTickets on sale November 12th @ 10 am \nWin Khruangbin at Roadrunner tickets! Contest ends Nov. 12th 9am! \nKhruangbin has always been multilingual\, weaving far-flung musical languages like East Asian surf-rock\, Persian funk\, and Jamaican dub into mellifluous harmony. But on its third album\, it’s finally speaking out loud. Mordechai features vocals prominently on nearly every song. It’s a shift that rewards the risk\, reorienting Khruangbin’s transportive sound toward a new sense of emotional directness\, without losing the spirit of nomadic wandering that’s always defined it.
URL:https://theriverboston.com/events/khruangbin-roadrunner/
LOCATION:Roadrunner\, 89 Guest Street\, Boston\, MA\, 02135\, United States
ORGANIZER;CN="Bowery%20Boston":MAILTO:info@boweryboston.com
END:VEVENT
END:VCALENDAR