BEGIN:VCALENDAR
VERSION:2.0
PRODID:-//92.5 the River - ECPv5.16.3.1//NONSGML v1.0//EN
CALSCALE:GREGORIAN
METHOD:PUBLISH
X-WR-CALNAME:92.5 the River
X-ORIGINAL-URL:https://theriverboston.com
X-WR-CALDESC:Events for 92.5 the River
BEGIN:VTIMEZONE
TZID:America/New_York
BEGIN:DAYLIGHT
TZOFFSETFROM:-0500
TZOFFSETTO:-0400
TZNAME:EDT
DTSTART:20160313T070000
END:DAYLIGHT
BEGIN:STANDARD
TZOFFSETFROM:-0400
TZOFFSETTO:-0500
TZNAME:EST
DTSTART:20161106T060000
END:STANDARD
END:VTIMEZONE
BEGIN:VEVENT
DTSTART;TZID=America/New_York:20160326T100000
DTEND;TZID=America/New_York:20160326T130000
DTSTAMP:20260420T032602
CREATED:20160309T185013Z
LAST-MODIFIED:20160309T185013Z
UID:10218-1458986400-1458997200@theriverboston.com
SUMMARY:Kimball Farm Open House Job Fair - Jaffrey
DESCRIPTION:Work for Kimball Farm!\nAttend Kimball Farm’s Jaffrey\, NH location’s job fair.\nWhen: Saturday\,  March 26th\nWhere: Jaffrey\, NH\nTime: 10AM – 1PM\nFor more information\, click here!
URL:https://theriverboston.com/events/kimball-farm-open-house-job-fair-jaffrey/
LOCATION:Kimball Farm\, 158 Turnpike Road\, Jaffrey\, NH\, 03452\, United States
END:VEVENT
END:VCALENDAR