BEGIN:VCALENDAR
VERSION:2.0
PRODID:-//92.5 the River - ECPv5.16.3.1//NONSGML v1.0//EN
CALSCALE:GREGORIAN
METHOD:PUBLISH
X-WR-CALNAME:92.5 the River
X-ORIGINAL-URL:https://theriverboston.com
X-WR-CALDESC:Events for 92.5 the River
BEGIN:VTIMEZONE
TZID:America/New_York
BEGIN:DAYLIGHT
TZOFFSETFROM:-0500
TZOFFSETTO:-0400
TZNAME:EDT
DTSTART:20170312T070000
END:DAYLIGHT
BEGIN:STANDARD
TZOFFSETFROM:-0400
TZOFFSETTO:-0500
TZNAME:EST
DTSTART:20171105T060000
END:STANDARD
END:VTIMEZONE
BEGIN:VEVENT
DTSTART;TZID=America/New_York:20170121T150000
DTEND;TZID=America/New_York:20170121T170000
DTSTAMP:20260425T232404
CREATED:20170111T212725Z
LAST-MODIFIED:20170111T212725Z
UID:31597-1485010800-1485018000@theriverboston.com
SUMMARY:King Pine Apres Ski Party!
DESCRIPTION:Join the River Roadies at King Pine Resort on Saturday\, January 21st for an exciting Apres Ski! \nAfter a day on the slopes\, head into Trail’s End Tavern. At 3:00\, New England’s own Seth Wonkka will perform! Listen to some intimate folk rock and warm up in the Tavern! We will also be giving away prizes and concert tickets! \nDon’t miss King Pine’s Apres Ski Party with Seth Wonkka!
URL:https://theriverboston.com/events/king-pine-apres-ski-party/
LOCATION:King Pine Ski Area\, 1251 Eaton Road Rt. 153\, East Madison\, NH\, 03849\, United States
END:VEVENT
END:VCALENDAR