BEGIN:VCALENDAR
VERSION:2.0
PRODID:-//92.5 the River - ECPv5.16.3.1//NONSGML v1.0//EN
CALSCALE:GREGORIAN
METHOD:PUBLISH
X-WR-CALNAME:92.5 the River
X-ORIGINAL-URL:https://theriverboston.com
X-WR-CALDESC:Events for 92.5 the River
BEGIN:VTIMEZONE
TZID:America/New_York
BEGIN:DAYLIGHT
TZOFFSETFROM:-0500
TZOFFSETTO:-0400
TZNAME:EDT
DTSTART:20250309T070000
END:DAYLIGHT
BEGIN:STANDARD
TZOFFSETFROM:-0400
TZOFFSETTO:-0500
TZNAME:EST
DTSTART:20251102T060000
END:STANDARD
END:VTIMEZONE
BEGIN:VEVENT
DTSTART;TZID=America/New_York:20250703T170000
DTEND;TZID=America/New_York:20250703T190000
DTSTAMP:20260419T084250
CREATED:20250619T160936Z
LAST-MODIFIED:20250626T160852Z
UID:227806-1751562000-1751569200@theriverboston.com
SUMMARY:Kona Bar Night @ The Voyage!
DESCRIPTION:Kona Bar Night @ The Voyage | Thursday\, July 3rd \n5pm-7pm \nThe Voyage Irish Pub in Humarock is hosting a Kona Bar Night on Thursday\, July 3rd. Stop by for a chance to win tickets to Levitate Music Festival! \nJoin the River Roadies between 5 and 7pm to spin the River Prize Wheel for a chance to win some awesome merch from Kona and the River…and enter to WIN TICKETS TO LEVITATE (for those who are 21+)!! \nIt’s all happening thanks to Kona Big Wave. Liquid Aloha.
URL:https://theriverboston.com/events/kona-the-voyage/
LOCATION:The Voyage – Irish Pub\, 14 Marshfield Avenue\, Humarock\, MA\, 02047\, United States
END:VEVENT
END:VCALENDAR