BEGIN:VCALENDAR
VERSION:2.0
PRODID:-//92.5 the River - ECPv5.16.3.1//NONSGML v1.0//EN
CALSCALE:GREGORIAN
METHOD:PUBLISH
X-WR-CALNAME:92.5 the River
X-ORIGINAL-URL:https://theriverboston.com
X-WR-CALDESC:Events for 92.5 the River
BEGIN:VTIMEZONE
TZID:America/New_York
BEGIN:DAYLIGHT
TZOFFSETFROM:-0500
TZOFFSETTO:-0400
TZNAME:EDT
DTSTART:20220313T070000
END:DAYLIGHT
BEGIN:STANDARD
TZOFFSETFROM:-0400
TZOFFSETTO:-0500
TZNAME:EST
DTSTART:20221106T060000
END:STANDARD
END:VTIMEZONE
BEGIN:VEVENT
DTSTART;TZID=America/New_York:20220226T163000
DTEND;TZID=America/New_York:20220226T210000
DTSTAMP:20260420T212359
CREATED:20211116T190147Z
LAST-MODIFIED:20211116T190147Z
UID:215151-1645893000-1645909200@theriverboston.com
SUMMARY:LaBelle Lights
DESCRIPTION:Closing Night for LaBelle Lights\n \nLaBelle Lights is an Awe-Inspiring Outdoor Walking Light Show for All Ages!\nWhen visiting LaBelle Lights\, you’ll experience a stunning show comprised of winter-themed lighting displays coordinated with music that will bring a smile to your face and joy to your heart. LaBelle Lights is to be enjoyed by all ages! There will be light food/beverages for purchase at the LaBelle Market (open from 4:30 pm – 9:00 pm) \nFind more information HERE.
URL:https://theriverboston.com/events/labelle-lights-2/
LOCATION:LaBelle Winery\, 14 Route 111\, Derry\, NH\, 03038\, United States
END:VEVENT
END:VCALENDAR