BEGIN:VCALENDAR
VERSION:2.0
PRODID:-//92.5 the River - ECPv5.16.3.1//NONSGML v1.0//EN
CALSCALE:GREGORIAN
METHOD:PUBLISH
X-WR-CALNAME:92.5 the River
X-ORIGINAL-URL:https://theriverboston.com
X-WR-CALDESC:Events for 92.5 the River
BEGIN:VTIMEZONE
TZID:America/New_York
BEGIN:DAYLIGHT
TZOFFSETFROM:-0500
TZOFFSETTO:-0400
TZNAME:EDT
DTSTART:20180311T070000
END:DAYLIGHT
BEGIN:STANDARD
TZOFFSETFROM:-0400
TZOFFSETTO:-0500
TZNAME:EST
DTSTART:20181104T060000
END:STANDARD
END:VTIMEZONE
BEGIN:VEVENT
DTSTART;TZID=America/New_York:20181129T180000
DTEND;TZID=America/New_York:20181129T210000
DTSTAMP:20260419T194103
CREATED:20181126T173358Z
LAST-MODIFIED:20181126T173426Z
UID:205030-1543514400-1543525200@theriverboston.com
SUMMARY:Ladies Night at Sea Festival of Trees
DESCRIPTION:The Sea Festival of Trees is in full swing\, and the Blue Ocean Event Center is excited to announce Ladies Night at the festival! Gather your gal pals and join us for a night of merriment with the River’s morning show host\, Dana Marshall! Enjoy cocktail mixology and sampling\, holiday demonstrations\, shopping discounts\, amazing door prizes and more! Plus\, you’ll be able to meet stylist to the stars Rochelle Joseph! It’s all happening at the Blue Ocean Event Center on Salisbury Beach on Thursday\, November 29th!
URL:https://theriverboston.com/events/ladies-night-at-sea-festival-of-trees/
LOCATION:Blue Ocean Event Center\, 4 Oceanfront North\, Salisbury\, MA\, United States
END:VEVENT
END:VCALENDAR