BEGIN:VCALENDAR
VERSION:2.0
PRODID:-//92.5 the River - ECPv5.16.3.1//NONSGML v1.0//EN
CALSCALE:GREGORIAN
METHOD:PUBLISH
X-WR-CALNAME:92.5 the River
X-ORIGINAL-URL:https://theriverboston.com
X-WR-CALDESC:Events for 92.5 the River
BEGIN:VTIMEZONE
TZID:America/New_York
BEGIN:DAYLIGHT
TZOFFSETFROM:-0500
TZOFFSETTO:-0400
TZNAME:EDT
DTSTART:20200308T070000
END:DAYLIGHT
BEGIN:STANDARD
TZOFFSETFROM:-0400
TZOFFSETTO:-0500
TZNAME:EST
DTSTART:20201101T060000
END:STANDARD
END:VTIMEZONE
BEGIN:VEVENT
DTSTART;TZID=America/New_York:20200321T180000
DTEND;TZID=America/New_York:20200321T180000
DTSTAMP:20260421T054026
CREATED:20200304T201849Z
LAST-MODIFIED:20200304T201849Z
UID:211992-1584813600-1584813600@theriverboston.com
SUMMARY:Lady Lamb is coming to City Winery!
DESCRIPTION:Lady Lamb is coming to City Winery for TWO nights!\nSee Lady Lamb at City Winery March 20th & 21st! If you haven’t gotten tickets already\, 3/20 has already sold out so snag a pair for 3/21 before those sell out too!
URL:https://theriverboston.com/events/lady-lamb-is-coming-to-city-winery/
LOCATION:City Winery Boston\, 80 Beverly Street at One Canal\, Boston\, MA\, 02114\, United States
END:VEVENT
END:VCALENDAR