BEGIN:VCALENDAR
VERSION:2.0
PRODID:-//92.5 the River - ECPv5.16.3.1//NONSGML v1.0//EN
CALSCALE:GREGORIAN
METHOD:PUBLISH
X-WR-CALNAME:92.5 the River
X-ORIGINAL-URL:https://theriverboston.com
X-WR-CALDESC:Events for 92.5 the River
BEGIN:VTIMEZONE
TZID:America/New_York
BEGIN:DAYLIGHT
TZOFFSETFROM:-0500
TZOFFSETTO:-0400
TZNAME:EDT
DTSTART:20160313T070000
END:DAYLIGHT
BEGIN:STANDARD
TZOFFSETFROM:-0400
TZOFFSETTO:-0500
TZNAME:EST
DTSTART:20161106T060000
END:STANDARD
END:VTIMEZONE
BEGIN:VEVENT
DTSTART;TZID=America/New_York:20160323T143000
DTEND;TZID=America/New_York:20160323T170000
DTSTAMP:20260420T032510
CREATED:20160316T172122Z
LAST-MODIFIED:20160316T172345Z
UID:10281-1458743400-1458752400@theriverboston.com
SUMMARY:Lake Street Dive intimate performance at the Foundation Room
DESCRIPTION:Win your way into an exclusive\, intimate performance with Lake Street Dive in the Foundation Room!\nLake Street Dive is coming for an exclusive performance with River listeners before their sold out show at the House of Blues! \nWhen: Wednesday\, March 23\nShowtime: 2:30 pm \nFind more info and a chance to enter\, click here!
URL:https://theriverboston.com/events/lake-street-drive-intimate-performance-foundation-room/
LOCATION:The Foundation Room\, House of Blues Boston\, 15 Lansdowne St\, Boston\, MA\, 02215\, United States
END:VEVENT
END:VCALENDAR