BEGIN:VCALENDAR
VERSION:2.0
PRODID:-//92.5 the River - ECPv5.16.3.1//NONSGML v1.0//EN
CALSCALE:GREGORIAN
METHOD:PUBLISH
X-WR-CALNAME:92.5 the River
X-ORIGINAL-URL:https://theriverboston.com
X-WR-CALDESC:Events for 92.5 the River
BEGIN:VTIMEZONE
TZID:America/New_York
BEGIN:DAYLIGHT
TZOFFSETFROM:-0500
TZOFFSETTO:-0400
TZNAME:EDT
DTSTART:20150308T070000
END:DAYLIGHT
BEGIN:STANDARD
TZOFFSETFROM:-0400
TZOFFSETTO:-0500
TZNAME:EST
DTSTART:20151101T060000
END:STANDARD
END:VTIMEZONE
BEGIN:VEVENT
DTSTART;TZID=America/New_York:20150620T100000
DTEND;TZID=America/New_York:20150620T140000
DTSTAMP:20260422T194007
CREATED:20150616T160646Z
LAST-MODIFIED:20150616T160646Z
UID:7337-1434794400-1434808800@theriverboston.com
SUMMARY:Landry and Arcari Tent Sale
DESCRIPTION:Landry and Arcari Rugs and Carpeting is having their annual two day tent sale! Stop by their stores in Framingham\, Salem MA and Boston for incredible deals on handmade oriental rugs\, bound area rugs\, and wool carpeting ready for installation. \nThe sale is on Thursday-Saturday at all three locations\, but we will be onsite in Salem\, MA on Saturday from 10-2! \nFor directions\, visit landryandarcari.com. \n 
URL:https://theriverboston.com/events/landry-and-arcari-tent-sale/
LOCATION:Landry and Arcari Rugs and Carpeting\, 63 Flint Street\, Salem\, MA\, United States
END:VEVENT
END:VCALENDAR