BEGIN:VCALENDAR
VERSION:2.0
PRODID:-//92.5 the River - ECPv5.16.3.1//NONSGML v1.0//EN
CALSCALE:GREGORIAN
METHOD:PUBLISH
X-WR-CALNAME:92.5 the River
X-ORIGINAL-URL:https://theriverboston.com
X-WR-CALDESC:Events for 92.5 the River
BEGIN:VTIMEZONE
TZID:America/New_York
BEGIN:DAYLIGHT
TZOFFSETFROM:-0500
TZOFFSETTO:-0400
TZNAME:EDT
DTSTART:20170312T070000
END:DAYLIGHT
BEGIN:STANDARD
TZOFFSETFROM:-0400
TZOFFSETTO:-0500
TZNAME:EST
DTSTART:20171105T060000
END:STANDARD
END:VTIMEZONE
BEGIN:VEVENT
DTSTART;TZID=America/New_York:20170128T200000
DTEND;TZID=America/New_York:20170128T200000
DTSTAMP:20260425T232958
CREATED:20170105T153012Z
LAST-MODIFIED:20170105T153012Z
UID:30092-1485633600-1485633600@theriverboston.com
SUMMARY:Lenny Clarke & Friends @ Cary Hall
DESCRIPTION:See Comedian Lenny Clarke & Friends perform at Cary Hall on\nSaturday\, January 28th!\n\nVeteran Boston stand-up comedian Lenny Clarke has an oddly calibrated act — his material and his perspective is very much in an old-school Don Rickles vein\, but his attitude is very much that of a quick-witted young comic. This contrast comes wrapped in a conversational\, deceptively genial delivery\, with just brief moments of clowning. Clarke is also unpredictable in a very good way on stage — you don’t know where he’s going to go next. It’s never the same show twice. He’s a unique and funny performer … truly worth catching. — NYC Review
URL:https://theriverboston.com/events/lenny-clarke-friends-cary-hall/
LOCATION:Cary Hall\, 1605 Massachusetts Ave\, Lexington\, MA\, 02420\, United States
END:VEVENT
END:VCALENDAR