BEGIN:VCALENDAR
VERSION:2.0
PRODID:-//92.5 the River - ECPv5.16.3.1//NONSGML v1.0//EN
CALSCALE:GREGORIAN
METHOD:PUBLISH
X-WR-CALNAME:92.5 the River
X-ORIGINAL-URL:https://theriverboston.com
X-WR-CALDESC:Events for 92.5 the River
BEGIN:VTIMEZONE
TZID:America/New_York
BEGIN:DAYLIGHT
TZOFFSETFROM:-0500
TZOFFSETTO:-0400
TZNAME:EDT
DTSTART:20250309T070000
END:DAYLIGHT
BEGIN:STANDARD
TZOFFSETFROM:-0400
TZOFFSETTO:-0500
TZNAME:EST
DTSTART:20251102T060000
END:STANDARD
END:VTIMEZONE
BEGIN:VEVENT
DTSTART;TZID=America/New_York:20250913T193000
DTEND;TZID=America/New_York:20250913T193000
DTSTAMP:20260423T203800
CREATED:20250610T164619Z
LAST-MODIFIED:20250610T164619Z
UID:227655-1757791800-1757791800@theriverboston.com
SUMMARY:Let's Sing Taylor @ Lowell Summer Music Series
DESCRIPTION:Let’s Sing Taylor | Saturday\, September 13th \nShow: 7:30 pm \nAre you Ready For It? \nLet’s Sing Taylor\, the ultimate tribute to the music of Taylor Swift\, is bringing a night of electric covers to the Lowell Summer Music Series this September! With all the magic of the Eras Tour (without the bank-breaking ticket prices)\, Let’s Sing Taylor is an unforgettable experience complete with live music\, huge singalongs\, and tons of Swifties dressed in their best Taylor-inspired attire. \nIt’s a Love Story\, so grab your Cardigans and say “Yes!” to Let’s Sing Taylor. \nGet tickets here!
URL:https://theriverboston.com/events/lets-sing-taylor-lowell/
LOCATION:Boarding House Park\, 40 French Street\, Lowell\, MA\, 01852\, United States
END:VEVENT
END:VCALENDAR