BEGIN:VCALENDAR
VERSION:2.0
PRODID:-//92.5 the River - ECPv5.16.3.1//NONSGML v1.0//EN
CALSCALE:GREGORIAN
METHOD:PUBLISH
X-WR-CALNAME:92.5 the River
X-ORIGINAL-URL:https://theriverboston.com
X-WR-CALDESC:Events for 92.5 the River
BEGIN:VTIMEZONE
TZID:America/New_York
BEGIN:DAYLIGHT
TZOFFSETFROM:-0500
TZOFFSETTO:-0400
TZNAME:EDT
DTSTART:20190310T070000
END:DAYLIGHT
BEGIN:STANDARD
TZOFFSETFROM:-0400
TZOFFSETTO:-0500
TZNAME:EST
DTSTART:20191103T060000
END:STANDARD
END:VTIMEZONE
BEGIN:VEVENT
DTSTART;TZID=America/New_York:20191122T190000
DTEND;TZID=America/New_York:20191122T230000
DTSTAMP:20260422T194342
CREATED:20191112T191754Z
LAST-MODIFIED:20191112T191754Z
UID:211050-1574449200-1574463600@theriverboston.com
SUMMARY:Letters to Cleo at Paradise Rock Club!
DESCRIPTION:Reunited and it feels so good! Come enjoy this Boston based alternative rock band for their 2019 tour\, best known for their 1994 single\, “Here & Now”\, from their full length debut album Aurora Glory Alice. Get tickets now or Enter to win tickets now through Sunday 11/17!
URL:https://theriverboston.com/events/letters-to-cleo-at-paradise-rock-club/
LOCATION:Paradise Rock Club\, 967 Commonwealth Ave\, Boston\, MA\, 02215\, United States
END:VEVENT
END:VCALENDAR