BEGIN:VCALENDAR
VERSION:2.0
PRODID:-//92.5 the River - ECPv5.16.3.1//NONSGML v1.0//EN
CALSCALE:GREGORIAN
METHOD:PUBLISH
X-WR-CALNAME:92.5 the River
X-ORIGINAL-URL:https://theriverboston.com
X-WR-CALDESC:Events for 92.5 the River
BEGIN:VTIMEZONE
TZID:America/New_York
BEGIN:DAYLIGHT
TZOFFSETFROM:-0500
TZOFFSETTO:-0400
TZNAME:EDT
DTSTART:20150308T070000
END:DAYLIGHT
BEGIN:STANDARD
TZOFFSETFROM:-0400
TZOFFSETTO:-0500
TZNAME:EST
DTSTART:20151101T060000
END:STANDARD
END:VTIMEZONE
BEGIN:VEVENT
DTSTART;TZID=America/New_York:20150620T120000
DTEND;TZID=America/New_York:20150620T180000
DTSTAMP:20260422T164622
CREATED:20150616T163634Z
LAST-MODIFIED:20150616T163634Z
UID:7352-1434801600-1434823200@theriverboston.com
SUMMARY:Live From the Newport Brewing Company Music Series
DESCRIPTION:On Saturday\, 6/20 from 12-6\, don’t miss The Folk & Bluegrass Get Down with Willy Porter at the Newburyport Brewing Company! \nTo buy tickets and see other upcoming shows in the series\, click here!
URL:https://theriverboston.com/events/live-from-the-newport-brewing-company-music-series/
LOCATION:Newburyport Brewing Company\, 4 New Pasture Road\, Newburyport\, ME\, United States
ORGANIZER;CN="Newburyport%20Brewing%20Company":MAILTO:info@nbptbrewing.com
END:VEVENT
END:VCALENDAR