BEGIN:VCALENDAR
VERSION:2.0
PRODID:-//92.5 the River - ECPv5.16.3.1//NONSGML v1.0//EN
CALSCALE:GREGORIAN
METHOD:PUBLISH
X-WR-CALNAME:92.5 the River
X-ORIGINAL-URL:https://theriverboston.com
X-WR-CALDESC:Events for 92.5 the River
BEGIN:VTIMEZONE
TZID:America/New_York
BEGIN:DAYLIGHT
TZOFFSETFROM:-0500
TZOFFSETTO:-0400
TZNAME:EDT
DTSTART:20210314T070000
END:DAYLIGHT
BEGIN:STANDARD
TZOFFSETFROM:-0400
TZOFFSETTO:-0500
TZNAME:EST
DTSTART:20211107T060000
END:STANDARD
END:VTIMEZONE
BEGIN:VEVENT
DTSTART;TZID=America/New_York:20211030T193000
DTEND;TZID=America/New_York:20211030T193000
DTSTAMP:20260421T102415
CREATED:20210909T135556Z
LAST-MODIFIED:20210909T135556Z
UID:214556-1635622200-1635622200@theriverboston.com
SUMMARY:Live music: Jonathan Edwards
DESCRIPTION:An Evening with Jonathan Edwards\nBUY TICKETS \nSpend an evening listening to the veteran performer Jonathan Edwards. Edwards will be at the Rex Theatre in Manchester NH on October 30th. Four decades into a stellar career of uncompromising musical integrity\, the man simply delivers\, night after night – songs of passion\, songs of insight\, songs of humor\, all rendered in that pure and powerful tenor which\, like fine wine\, has only grown sweeter with age. READ MORE
URL:https://theriverboston.com/events/live-music-jonathan-edwards/
LOCATION:The Rex Theatre\, 23 Amherst St\, Manchester\, NH\, 03101\, United States
END:VEVENT
END:VCALENDAR