BEGIN:VCALENDAR
VERSION:2.0
PRODID:-//92.5 the River - ECPv5.16.3.1//NONSGML v1.0//EN
CALSCALE:GREGORIAN
METHOD:PUBLISH
X-WR-CALNAME:92.5 the River
X-ORIGINAL-URL:https://theriverboston.com
X-WR-CALDESC:Events for 92.5 the River
BEGIN:VTIMEZONE
TZID:America/New_York
BEGIN:DAYLIGHT
TZOFFSETFROM:-0500
TZOFFSETTO:-0400
TZNAME:EDT
DTSTART:20210314T070000
END:DAYLIGHT
BEGIN:STANDARD
TZOFFSETFROM:-0400
TZOFFSETTO:-0500
TZNAME:EST
DTSTART:20211107T060000
END:STANDARD
END:VTIMEZONE
BEGIN:VEVENT
DTSTART;TZID=America/New_York:20210925T193000
DTEND;TZID=America/New_York:20210925T193000
DTSTAMP:20260422T110029
CREATED:20210909T134536Z
LAST-MODIFIED:20210909T134536Z
UID:214552-1632598200-1632598200@theriverboston.com
SUMMARY:Live music: Livingston Taylor w/Kemp Harris
DESCRIPTION:Livingston Taylor\nw/Kemp Harris\nBUY TICKETS \nDon’t miss out on your chance to see Livingston Taylor at the Rex Theatre in Manchester NH on September 25th! Livingston Taylor picked up his first guitar at the age of 13\, which began a 50-year career that has encompassed performance\, songwriting\, and teaching.. Livingston recorded his first record at the age of 18 and has continued to create well crafted\, introspective\, and original songs that have earned him listeners worldwide. READ MORE 
URL:https://theriverboston.com/events/live-music-livingston-taylor-w-kemp-harris/
LOCATION:The Rex Theatre\, 23 Amherst St\, Manchester\, NH\, 03101\, United States
END:VEVENT
END:VCALENDAR