BEGIN:VCALENDAR
VERSION:2.0
PRODID:-//92.5 the River - ECPv5.16.3.1//NONSGML v1.0//EN
CALSCALE:GREGORIAN
METHOD:PUBLISH
X-WR-CALNAME:92.5 the River
X-ORIGINAL-URL:https://theriverboston.com
X-WR-CALDESC:Events for 92.5 the River
BEGIN:VTIMEZONE
TZID:America/New_York
BEGIN:DAYLIGHT
TZOFFSETFROM:-0500
TZOFFSETTO:-0400
TZNAME:EDT
DTSTART:20210314T070000
END:DAYLIGHT
BEGIN:STANDARD
TZOFFSETFROM:-0400
TZOFFSETTO:-0500
TZNAME:EST
DTSTART:20211107T060000
END:STANDARD
END:VTIMEZONE
BEGIN:VEVENT
DTSTART;TZID=America/New_York:20211231T190000
DTEND;TZID=America/New_York:20211231T190000
DTSTAMP:20260419T183344
CREATED:20210923T151550Z
LAST-MODIFIED:20210923T151550Z
UID:214737-1640977200-1640977200@theriverboston.com
SUMMARY:Live music: Ryan Montbleau Band
DESCRIPTION:Ryan Montbleau Band\nON SALE 9/24 \nSpend New Years right at The Cabot Theater. Ryan Montbleau Band is playing at The Cabot New Years Eve. What better way to end 2021 than listening to great music. Ryan’s newest album takes you through the four main elements of nature\, Wood\, Fire\, Water\, and Air. End your year connecting to nature\, your existence and music in an entirely new way. READ MORE
URL:https://theriverboston.com/events/live-music-ryan-montbleau-band/
LOCATION:THE CABOT\, 286 Cabot Street\, Beverly\, MA\, 01915\, United States
END:VEVENT
END:VCALENDAR