BEGIN:VCALENDAR
VERSION:2.0
PRODID:-//92.5 the River - ECPv5.16.3.1//NONSGML v1.0//EN
CALSCALE:GREGORIAN
METHOD:PUBLISH
X-WR-CALNAME:92.5 the River
X-ORIGINAL-URL:https://theriverboston.com
X-WR-CALDESC:Events for 92.5 the River
BEGIN:VTIMEZONE
TZID:America/New_York
BEGIN:DAYLIGHT
TZOFFSETFROM:-0500
TZOFFSETTO:-0400
TZNAME:EDT
DTSTART:20160313T070000
END:DAYLIGHT
BEGIN:STANDARD
TZOFFSETFROM:-0400
TZOFFSETTO:-0500
TZNAME:EST
DTSTART:20161106T060000
END:STANDARD
END:VTIMEZONE
BEGIN:VEVENT
DTSTART;TZID=America/New_York:20161007T153000
DTEND;TZID=America/New_York:20161007T163000
DTSTAMP:20260422T080624
CREATED:20160930T144604Z
LAST-MODIFIED:20160930T144604Z
UID:21178-1475854200-1475857800@theriverboston.com
SUMMARY:Live at the River Music Hall: The Violent Femmes!
DESCRIPTION:The Violent Femmes are performing LIVE in the historic River Music Hall! \nEnter to win tickets for you and a friend to attend this once-in-a-lifetime event! \nPresented by our friends at Align Credit Union!
URL:https://theriverboston.com/events/live-river-music-hall-violent-femmes/
LOCATION:River Music Hall\, 30 How Street\, Haverhill\, 01830\, United States
END:VEVENT
END:VCALENDAR