BEGIN:VCALENDAR
VERSION:2.0
PRODID:-//92.5 the River - ECPv5.16.3.1//NONSGML v1.0//EN
CALSCALE:GREGORIAN
METHOD:PUBLISH
X-WR-CALNAME:92.5 the River
X-ORIGINAL-URL:https://theriverboston.com
X-WR-CALDESC:Events for 92.5 the River
BEGIN:VTIMEZONE
TZID:America/New_York
BEGIN:DAYLIGHT
TZOFFSETFROM:-0500
TZOFFSETTO:-0400
TZNAME:EDT
DTSTART:20160313T070000
END:DAYLIGHT
BEGIN:STANDARD
TZOFFSETFROM:-0400
TZOFFSETTO:-0500
TZNAME:EST
DTSTART:20161106T060000
END:STANDARD
END:VTIMEZONE
BEGIN:VEVENT
DTSTART;TZID=America/New_York:20161118T200000
DTEND;TZID=America/New_York:20161118T200000
DTSTAMP:20260425T000314
CREATED:20161115T170732Z
LAST-MODIFIED:20161115T170732Z
UID:25653-1479499200-1479499200@theriverboston.com
SUMMARY:Los Lobos Live at the Cabot Theatre
DESCRIPTION:Don’t miss out on your chance to catch Los Lobos live at the Cabot Theatre!! \nPerforming on Friday\, November 18th! \nMake sure to purchase your tickets early\, and don’t miss out on a great show!!
URL:https://theriverboston.com/events/los-lobos-live-cabot-theatre/
LOCATION:THE CABOT\, 286 Cabot Street\, Beverly\, MA\, 01915\, United States
END:VEVENT
END:VCALENDAR