BEGIN:VCALENDAR
VERSION:2.0
PRODID:-//92.5 the River - ECPv5.16.3.1//NONSGML v1.0//EN
CALSCALE:GREGORIAN
METHOD:PUBLISH
X-WR-CALNAME:92.5 the River
X-ORIGINAL-URL:https://theriverboston.com
X-WR-CALDESC:Events for 92.5 the River
BEGIN:VTIMEZONE
TZID:America/New_York
BEGIN:DAYLIGHT
TZOFFSETFROM:-0500
TZOFFSETTO:-0400
TZNAME:EDT
DTSTART:20170312T070000
END:DAYLIGHT
BEGIN:STANDARD
TZOFFSETFROM:-0400
TZOFFSETTO:-0500
TZNAME:EST
DTSTART:20171105T060000
END:STANDARD
END:VTIMEZONE
BEGIN:VEVENT
DTSTART;TZID=America/New_York:20170323T200000
DTEND;TZID=America/New_York:20170323T200000
DTSTAMP:20260425T202133
CREATED:20170215T190703Z
LAST-MODIFIED:20170215T190703Z
UID:35764-1490299200-1490299200@theriverboston.com
SUMMARY:LOVE/SICK
DESCRIPTION:See nine plays within one at the Firehouse Center for the Arts beginning March 23rd and ending April 2nd! \nTickets on sale now starting at $18! \nLOVE/SICK is a Firehouse production of collection of nine short stories about the pain and joy of love. The hilarious 80 minute “unromantic comedy” takes place in a Suburban setting on a Friday night. Written by the talented John Cariani\, everybody is guaranteed to enjoy the show!
URL:https://theriverboston.com/events/lovesick/
LOCATION:Firehouse Center for the Arts\, Market Square\, Newburyport\, MA\, 01950\, United States
END:VEVENT
END:VCALENDAR