BEGIN:VCALENDAR
VERSION:2.0
PRODID:-//92.5 the River - ECPv5.16.3.1//NONSGML v1.0//EN
CALSCALE:GREGORIAN
METHOD:PUBLISH
X-WR-CALNAME:92.5 the River
X-ORIGINAL-URL:https://theriverboston.com
X-WR-CALDESC:Events for 92.5 the River
BEGIN:VTIMEZONE
TZID:America/New_York
BEGIN:DAYLIGHT
TZOFFSETFROM:-0500
TZOFFSETTO:-0400
TZNAME:EDT
DTSTART:20190310T070000
END:DAYLIGHT
BEGIN:STANDARD
TZOFFSETFROM:-0400
TZOFFSETTO:-0500
TZNAME:EST
DTSTART:20191103T060000
END:STANDARD
END:VTIMEZONE
BEGIN:VEVENT
DTSTART;TZID=America/New_York:20190921T120000
DTEND;TZID=America/New_York:20190921T223000
DTSTAMP:20260420T152938
CREATED:20190829T172429Z
LAST-MODIFIED:20190829T173849Z
UID:210341-1569067200-1569105000@theriverboston.com
SUMMARY:Lowell Irish Festival
DESCRIPTION:Located on the grounds of the Lowell Memorial Auditorium\, the Lowell Irish Festival will feature live Irish music from national and local acts such as Joshua Tree\, The Gobshites\, Irish Whispa\, and a headlining nighttime set from the Young Dubliners; food trucks; craft tents; family activities; Irish heritage events; authentic Irish step dancing – and of course\, craft beer and more. \nThe day-long event begins at Noon and continues well into the evening\, spread out across the main Auditorium stage and two outdoor stages\, and will be open to families and groups of all ages\, taking its place alongside Winterfest\, The Lowell Folk Festival\, and the Lowell Southeast Asian Water Festival as the Mill City’s next great cultural event. \nTickets are $10 in advance and $12 day-of. There are also family 4-packs available for $25! Pick them up early here!
URL:https://theriverboston.com/events/lowell-irish-festival/
LOCATION:Lowell Memorial Auditorium\, 50 E. Merrimack Street\, Lowell\, MA\, 01852\, United States
END:VEVENT
END:VCALENDAR