BEGIN:VCALENDAR
VERSION:2.0
PRODID:-//92.5 the River - ECPv5.16.3.1//NONSGML v1.0//EN
CALSCALE:GREGORIAN
METHOD:PUBLISH
X-WR-CALNAME:92.5 the River
X-ORIGINAL-URL:https://theriverboston.com
X-WR-CALDESC:Events for 92.5 the River
BEGIN:VTIMEZONE
TZID:America/New_York
BEGIN:DAYLIGHT
TZOFFSETFROM:-0500
TZOFFSETTO:-0400
TZNAME:EDT
DTSTART:20170312T070000
END:DAYLIGHT
BEGIN:STANDARD
TZOFFSETFROM:-0400
TZOFFSETTO:-0500
TZNAME:EST
DTSTART:20171105T060000
END:STANDARD
END:VTIMEZONE
BEGIN:VEVENT
DTSTART;TZID=America/New_York:20170804T183000
DTEND;TZID=America/New_York:20170804T203000
DTSTAMP:20260422T033423
CREATED:20170606T171006Z
LAST-MODIFIED:20170607T152251Z
UID:47022-1501871400-1501878600@theriverboston.com
SUMMARY:The River Presents: Amos Lee at the Lowell Summer Music Series
DESCRIPTION:Lowell Summer Music Series –\nAmos Lee\nJoin the River Roadies for an evening with Amos Lee\, and special guest Bailen\, at Boarding House Park in Lowell\, MA on Sunday\, August 4th.  \nThe concert will begin at 7:30pm. \nIn the event of inclement weather\, the concert will be moved diagonally across the street to the Lowell High School air-conditioned auditorium. \nGet your tickets today!
URL:https://theriverboston.com/events/lowell-summer-music-series-amos-lee/
LOCATION:Boarding House Park\, 40 French Street\, Lowell\, MA\, 01852\, United States
END:VEVENT
END:VCALENDAR