BEGIN:VCALENDAR
VERSION:2.0
PRODID:-//92.5 the River - ECPv5.16.3.1//NONSGML v1.0//EN
CALSCALE:GREGORIAN
METHOD:PUBLISH
X-WR-CALNAME:92.5 the River
X-ORIGINAL-URL:https://theriverboston.com
X-WR-CALDESC:Events for 92.5 the River
BEGIN:VTIMEZONE
TZID:America/New_York
BEGIN:DAYLIGHT
TZOFFSETFROM:-0500
TZOFFSETTO:-0400
TZNAME:EDT
DTSTART:20170312T070000
END:DAYLIGHT
BEGIN:STANDARD
TZOFFSETFROM:-0400
TZOFFSETTO:-0500
TZNAME:EST
DTSTART:20171105T060000
END:STANDARD
END:VTIMEZONE
BEGIN:VEVENT
DTSTART;TZID=America/New_York:20170812T183000
DTEND;TZID=America/New_York:20170812T203000
DTSTAMP:20260421T041001
CREATED:20170606T163256Z
LAST-MODIFIED:20170607T152741Z
UID:46970-1502562600-1502569800@theriverboston.com
SUMMARY:The River Presents: Lyle Lovett at the Lowell Summer Music Series
DESCRIPTION:Lowell Summer Music Series-\nLyle Lovett\nJoin the River Roadies for an evening with Lyle Lovett and his Large Band at Boarding House Park in Lowell\, MA on Saturday\, August 12th. \nThe concert will begin at 7:30pm. \nThis event is rain or shine\, and will be moved diagonally across the street to the Lowell High School air- conditioned auditorium in the event of inclement weather. \nGet your tickets today!
URL:https://theriverboston.com/events/lowell-summer-music-series-lyle-lovett/
LOCATION:Boarding House Park\, 40 French Street\, Lowell\, MA\, 01852\, United States
END:VEVENT
END:VCALENDAR