BEGIN:VCALENDAR
VERSION:2.0
PRODID:-//92.5 the River - ECPv5.16.3.1//NONSGML v1.0//EN
CALSCALE:GREGORIAN
METHOD:PUBLISH
X-WR-CALNAME:92.5 the River
X-ORIGINAL-URL:https://theriverboston.com
X-WR-CALDESC:Events for 92.5 the River
BEGIN:VTIMEZONE
TZID:America/New_York
BEGIN:DAYLIGHT
TZOFFSETFROM:-0500
TZOFFSETTO:-0400
TZNAME:EDT
DTSTART:20220313T070000
END:DAYLIGHT
BEGIN:STANDARD
TZOFFSETFROM:-0400
TZOFFSETTO:-0500
TZNAME:EST
DTSTART:20221106T060000
END:STANDARD
END:VTIMEZONE
BEGIN:VEVENT
DTSTART;TZID=America/New_York:20221231T200000
DTEND;TZID=America/New_York:20221231T235900
DTSTAMP:20260425T203454
CREATED:20221213T122804Z
LAST-MODIFIED:20221213T122804Z
UID:217868-1672516800-1672531140@theriverboston.com
SUMMARY:Luck & Money: The New Year at Sol\, Portsmouth
DESCRIPTION:Ring in the New Year – in Southern style!\nReceive the blessings of Luck and Money in the upcoming year with us at Sol Southern Kitchen and Lounge. The consumption of collard greens and black-eyed peas on the new year was believed to bestow the bounties of luck and money upon the consumer. The cooking and serving of collards and black-eyed peas on the new year is a long-standing tradition that originated from African slavery roots and was cultivated in the Gullah region before becoming a standard in communities across the south.\nPlease enjoy these New Year’s traditions with us at Sol\, all orders will be accompanied by a complementary side of Stewed Collard Greens and Black-Eyed Peas. \nThe legendary powers begin at 9:00PM with live music from Tim Parent and Ben Butterworth of Grim Bros. \nSo let your New Year begin with luck and money and celebrate at Sol! \n 
URL:https://theriverboston.com/events/luck-money-the-new-year-at-sol-portsmouth/
LOCATION:Sol Southern Kitchen & Lounge\, 111 State Street\, Portsmouth\, NH\, 03801\, United States
END:VEVENT
END:VCALENDAR