BEGIN:VCALENDAR
VERSION:2.0
PRODID:-//92.5 the River - ECPv5.16.3.1//NONSGML v1.0//EN
CALSCALE:GREGORIAN
METHOD:PUBLISH
X-WR-CALNAME:92.5 the River
X-ORIGINAL-URL:https://theriverboston.com
X-WR-CALDESC:Events for 92.5 the River
BEGIN:VTIMEZONE
TZID:America/New_York
BEGIN:DAYLIGHT
TZOFFSETFROM:-0500
TZOFFSETTO:-0400
TZNAME:EDT
DTSTART:20220313T070000
END:DAYLIGHT
BEGIN:STANDARD
TZOFFSETFROM:-0400
TZOFFSETTO:-0500
TZNAME:EST
DTSTART:20221106T060000
END:STANDARD
END:VTIMEZONE
BEGIN:VEVENT
DTSTART;TZID=America/New_York:20221203T100000
DTEND;TZID=America/New_York:20221204T160000
DTSTAMP:20260425T150834
CREATED:20221121T112411Z
LAST-MODIFIED:20221121T112430Z
UID:217710-1670061600-1670169600@theriverboston.com
SUMMARY:Made In New England Expo
DESCRIPTION:PURCHASE TICKETS HERE\nGet in the holiday spirit and find unique local products and gifts for everyone on your list at at the Made in New England Expo\, your one-stop holiday gift shop! Browse 75+ vendor booths and support local small businesses while doing all of your holiday shopping! Plus\, enjoy festive sounds of the season live from the expo stage and don’t forget to visit the farm animals at the back of the hall! \n\nMore on Facebook\nMore on YouTube
URL:https://theriverboston.com/events/made-in-new-england-expo/
LOCATION:DoubleTree by Hilton Hotel\, 50 Ferncroft Road\, Danvers\, MA\, 01923\, United States
END:VEVENT
END:VCALENDAR