BEGIN:VCALENDAR
VERSION:2.0
PRODID:-//92.5 the River - ECPv5.16.3.1//NONSGML v1.0//EN
CALSCALE:GREGORIAN
METHOD:PUBLISH
X-WR-CALNAME:92.5 the River
X-ORIGINAL-URL:https://theriverboston.com
X-WR-CALDESC:Events for 92.5 the River
BEGIN:VTIMEZONE
TZID:America/New_York
BEGIN:DAYLIGHT
TZOFFSETFROM:-0500
TZOFFSETTO:-0400
TZNAME:EDT
DTSTART:20150308T070000
END:DAYLIGHT
BEGIN:STANDARD
TZOFFSETFROM:-0400
TZOFFSETTO:-0500
TZNAME:EST
DTSTART:20151101T060000
END:STANDARD
END:VTIMEZONE
BEGIN:VEVENT
DTSTART;TZID=America/New_York:20150628T190000
DTEND;TZID=America/New_York:20150628T220000
DTSTAMP:20260422T035605
CREATED:20150616T161839Z
LAST-MODIFIED:20150616T161839Z
UID:7346-1435518000-1435528800@theriverboston.com
SUMMARY:Madeleine Peyroux at Berklee Performance Center
DESCRIPTION:“The only thing that matters is the song\,” says singer-songwriter Madeleine Peyroux. That conviction\, along with a  “one of a kind” voice\, has carried this jazz artist from busking on the streets of Paris all the way to mainstream recognition. She is performing at the Berklee Performance Center on 6/28
URL:https://theriverboston.com/events/madeleine-peyroux-at-berklee-performance-center/
LOCATION:Berklee Performance Center\, 136 Massachusetts Ave\, Boston\, MA\, 02115\, United States
END:VEVENT
END:VCALENDAR