BEGIN:VCALENDAR
VERSION:2.0
PRODID:-//92.5 the River - ECPv5.16.3.1//NONSGML v1.0//EN
CALSCALE:GREGORIAN
METHOD:PUBLISH
X-WR-CALNAME:92.5 the River
X-ORIGINAL-URL:https://theriverboston.com
X-WR-CALDESC:Events for 92.5 the River
BEGIN:VTIMEZONE
TZID:America/New_York
BEGIN:DAYLIGHT
TZOFFSETFROM:-0500
TZOFFSETTO:-0400
TZNAME:EDT
DTSTART:20210314T070000
END:DAYLIGHT
BEGIN:STANDARD
TZOFFSETFROM:-0400
TZOFFSETTO:-0500
TZNAME:EST
DTSTART:20211107T060000
END:STANDARD
END:VTIMEZONE
BEGIN:VEVENT
DTSTART;TZID=America/New_York:20211018T000000
DTEND;TZID=America/New_York:20211018T000000
DTSTAMP:20260422T075148
CREATED:20210630T173314Z
LAST-MODIFIED:20210630T173314Z
UID:213940-1634515200-1634515200@theriverboston.com
SUMMARY:Manchester Orchestra @ the House of Blues!
DESCRIPTION:Don’t miss Erasure at The Orpheum Theatre in Boston\nDoors open at 6:30 PM. \nIf you have been listening to the River\, you would know that we have been playing Manchester Orchestra’s newest single\, “Bed Head.” Want to hear this song and many other great hits live? Tickets are on sale now\, but here is your chance to win free tickets! \nWin Tickets to see Manchester Orchestra for FREE! \nCLICK HERE to purchase tickets! \nClick For All Things Manchester Orchestra| Facebook | Twitter | Instagram \nPresented by:
URL:https://theriverboston.com/events/manchester-orchestra-the-house-of-blues/
LOCATION:Citizens House Of Blues\, 15 Lansdowne Street\, Boston\, MA\, 02215\, United States
END:VEVENT
END:VCALENDAR