BEGIN:VCALENDAR
VERSION:2.0
PRODID:-//92.5 the River - ECPv5.16.3.1//NONSGML v1.0//EN
CALSCALE:GREGORIAN
METHOD:PUBLISH
X-WR-CALNAME:92.5 the River
X-ORIGINAL-URL:https://theriverboston.com
X-WR-CALDESC:Events for 92.5 the River
BEGIN:VTIMEZONE
TZID:America/New_York
BEGIN:DAYLIGHT
TZOFFSETFROM:-0500
TZOFFSETTO:-0400
TZNAME:EDT
DTSTART:20180311T070000
END:DAYLIGHT
BEGIN:STANDARD
TZOFFSETFROM:-0400
TZOFFSETTO:-0500
TZNAME:EST
DTSTART:20181104T060000
END:STANDARD
END:VTIMEZONE
BEGIN:VEVENT
DTSTART;TZID=America/New_York:20180815T190000
DTEND;TZID=America/New_York:20180815T230000
DTSTAMP:20260421T091227
CREATED:20180523T133342Z
LAST-MODIFIED:20180717T210223Z
UID:85701-1534359600-1534374000@theriverboston.com
SUMMARY:Mandolin Orange At Prescott Park Arts Festival
DESCRIPTION:Join us for Mandolin Orange at Prescott Park on August 15th!\nCome see Mandolin Orange on August 15th at Prescott Park. This is a free concert so there no tickets needed but you can reserve a blanket and table. The show starts at 7:00 pm and we hope to see you there!
URL:https://theriverboston.com/events/mandolin-orange-at-prescott-park/
LOCATION:Prescott Park\, 105 Marcy Street\, Portsmouth\, NH\, 03801\, United States
ORGANIZER;CN="Prescott%20Park":MAILTO:hello@prescottpark.org
END:VEVENT
END:VCALENDAR