BEGIN:VCALENDAR
VERSION:2.0
PRODID:-//92.5 the River - ECPv5.16.3.1//NONSGML v1.0//EN
CALSCALE:GREGORIAN
METHOD:PUBLISH
X-WR-CALNAME:92.5 the River
X-ORIGINAL-URL:https://theriverboston.com
X-WR-CALDESC:Events for 92.5 the River
BEGIN:VTIMEZONE
TZID:America/New_York
BEGIN:DAYLIGHT
TZOFFSETFROM:-0500
TZOFFSETTO:-0400
TZNAME:EDT
DTSTART:20230312T070000
END:DAYLIGHT
BEGIN:STANDARD
TZOFFSETFROM:-0400
TZOFFSETTO:-0500
TZNAME:EST
DTSTART:20231105T060000
END:STANDARD
END:VTIMEZONE
BEGIN:VEVENT
DTSTART;TZID=America/New_York:20231130T200000
DTEND;TZID=America/New_York:20231130T200000
DTSTAMP:20260425T072610
CREATED:20231110T185746Z
LAST-MODIFIED:20231110T185837Z
UID:221943-1701374400-1701374400@theriverboston.com
SUMMARY:Marc Cohn & Shawn Colvin at The Cabot in Beverly
DESCRIPTION:BUY TICKETS HERE \nMARC COHN & SHAWN COLVIN TOGETHER ONSTAGE\nDoors: 7pm\nTwo of a generation’s favorite singer-songwriters\, Marc Cohn and Shawn Colvin\, come together onstage for a special evening. Cohn\, a Grammy Award winner for his soulful ballad “Walking in Memphis”\, and Colvin\, winner of the Grammy Award’s Record of the Year and Song of the Year for “Sunny Came Home”\, welcome fans into their decades long friendship for a night of songs and stories. \nREAD MORE \nHelpful Links:\n\nFull Lineup of Cabot Shows\, Events\, and Screenings\nMarc Cohn Official Website\nShawn Colvin Official Website\nMore about The Cabot’s Story
URL:https://theriverboston.com/events/marc-cohn-shawn-colvin-the-cabot/
LOCATION:THE CABOT\, 286 Cabot Street\, Beverly\, MA\, 01915\, United States
END:VEVENT
END:VCALENDAR